BEGIN:VCALENDAR
VERSION:2.0
PRODID:-//Numero® - ECPv6.15.20//NONSGML v1.0//EN
CALSCALE:GREGORIAN
METHOD:PUBLISH
X-ORIGINAL-URL:https://numero.org
X-WR-CALDESC:Events for Numero®
REFRESH-INTERVAL;VALUE=DURATION:PT1H
X-Robots-Tag:noindex
X-PUBLISHED-TTL:PT1H
BEGIN:VTIMEZONE
TZID:Australia/Perth
BEGIN:STANDARD
TZOFFSETFROM:+0800
TZOFFSETTO:+0800
TZNAME:AWST
DTSTART:20250101T000000
END:STANDARD
END:VTIMEZONE
BEGIN:VEVENT
DTSTART;TZID=Australia/Perth:20260408T090000
DTEND;TZID=Australia/Perth:20260408T223000
DTSTAMP:20260423T213432
CREATED:20260327T021656Z
LAST-MODIFIED:20260327T031534Z
UID:14578-1775638800-1775687400@numero.org
SUMMARY:Introductory Numero Workshop
DESCRIPTION:Join us for a workshop that will teach you how to play and teach Numero\, with lots of opportunity to practice and to ask questions. This session is perfect for those new to the game\, as well as those who either haven’t played in a while and need a refresher\, or those who aren’t sure if they are playing correctly. Use this session to hone your skills and make sure you’re getting the best out of such a valuable resource.\nThis session is also perfect for home schoolers or any parents/grandparents that want to learn a game that can help their family members with their number skills\, or even their memory!\n\nHere’s the link : https://bit.ly/NumeroIntroApr2026
URL:https://numero.org/event/introductory-numero-workshop/
LOCATION:North Harrisdale Primary School\, 100 Reilly Road\, Harrisdale\, West\, 6112\, Australia
ATTACH;FMTTYPE=image/jpeg:https://numero.org/wp-content/uploads/2026/03/IMG_0112-2-scaled.jpg
ORGANIZER;CN="Numero":MAILTO:julie@ietpl.com.au
END:VEVENT
BEGIN:VEVENT
DTSTART;TZID=Australia/Perth:20260408T110000
DTEND;TZID=Australia/Perth:20260408T130000
DTSTAMP:20260423T213432
CREATED:20260327T023129Z
LAST-MODIFIED:20260327T031450Z
UID:14584-1775646000-1775653200@numero.org
SUMMARY:Numero Competition Preparation Workshop
DESCRIPTION:This workshop is designed for teachers who are new or recently new to Numero competitions (primary or secondary)\, or those teachers who simply want their students to do better\, as the focus will be on competing.\n\nWe will work through the four competition events with a multitude of tips and training techniques uniquely applicable to each of them. Be prepared to play the game and complete challenges under timed pressure\, just as the students are required to do.\n\nPre-requisite: Know how to play the game of Numero\, as that will be expected in order to work on competition training. (You may attend the earlier workshop to refresh your skills first!)\n\nHere’s the link: https://bit.ly/NumeroCompPrepApr2026
URL:https://numero.org/event/numero-competition-preparation-workshop-3/
LOCATION:North Harrisdale Primary School\, 100 Reilly Road\, Harrisdale\, West\, 6112\, Australia
ATTACH;FMTTYPE=image/jpeg:https://numero.org/wp-content/uploads/2026/03/Challenge-book.jpg
ORGANIZER;CN="Numero":MAILTO:julie@ietpl.com.au
END:VEVENT
BEGIN:VEVENT
DTSTART;TZID=Australia/Perth:20260408T133000
DTEND;TZID=Australia/Perth:20260408T143000
DTSTAMP:20260423T213432
CREATED:20260327T023821Z
LAST-MODIFIED:20260327T031330Z
UID:14587-1775655000-1775658600@numero.org
SUMMARY:Numero App & Card Game Public Info Session
DESCRIPTION:Join the Numero expert for an hour of Q&A.\n\nWhether you’ve been playing at school or at home\, with the cards or on the app\, you may have some questions. Here’s your chance to ask anything you like relating to Numero!!\n\nThis is a free workshop\, purely to help you get the best out of Numero and/or the Numero App. Register now!\n\nHere’s the link : https://bit.ly/NumeroInfoApr2026
URL:https://numero.org/event/numero-app-card-game-public-info-session/
LOCATION:North Harrisdale Primary School\, 100 Reilly Road\, Harrisdale\, West\, 6112\, Australia
ATTACH;FMTTYPE=image/png:https://numero.org/wp-content/uploads/2026/03/Banner-3.png
ORGANIZER;CN="Numero":MAILTO:julie@ietpl.com.au
END:VEVENT
END:VCALENDAR