BEGIN:VCALENDAR
VERSION:2.0
PRODID:-//Numero® - ECPv6.15.20//NONSGML v1.0//EN
CALSCALE:GREGORIAN
METHOD:PUBLISH
X-WR-CALNAME:Numero®
X-ORIGINAL-URL:https://numero.org
X-WR-CALDESC:Events for Numero®
REFRESH-INTERVAL;VALUE=DURATION:PT1H
X-Robots-Tag:noindex
X-PUBLISHED-TTL:PT1H
BEGIN:VTIMEZONE
TZID:Australia/Perth
BEGIN:STANDARD
TZOFFSETFROM:+0800
TZOFFSETTO:+0800
TZNAME:AWST
DTSTART:20250101T000000
END:STANDARD
END:VTIMEZONE
BEGIN:VEVENT
DTSTART;TZID=Australia/Perth:20260708T100000
DTEND;TZID=Australia/Perth:20260708T130000
DTSTAMP:20260424T013332
CREATED:20260212T234807Z
LAST-MODIFIED:20260212T234807Z
UID:14570-1783504800-1783515600@numero.org
SUMMARY:MAWA Maths Expo 2026
DESCRIPTION:  \n \nJoin us for a day of learning and exploration at the Maths Expo! \nDesigned to support parents and students in mathematics learning at home\, this interactive event will showcase the latest and greatest resources for a fun and engaging approach to maths. \nDon’t miss out on seeing NUMERO in all its glory – both the classic physical card game and the new digital app! \nBring the family and dive into the world of mathematics together. \nThis is a unique opportunity to support your student’s maths learning journey. See you at the Maths Expo!
URL:https://numero.org/event/mawa-maths-expo-2026/
LOCATION:Perth Town Hall\, 601 Hay Street\, Perth\, Western Australia\, 6000\, Australia
ATTACH;FMTTYPE=image/png:https://numero.org/wp-content/uploads/2025/06/ExpoLogo-1024x380-1.png
ORGANIZER;CN="MAWA":MAILTO:office@mawainc.org.au
END:VEVENT
END:VCALENDAR