BEGIN:VCALENDAR
VERSION:2.0
PRODID:-//Numero® - ECPv6.15.20//NONSGML v1.0//EN
CALSCALE:GREGORIAN
METHOD:PUBLISH
X-WR-CALNAME:Numero®
X-ORIGINAL-URL:https://numero.org
X-WR-CALDESC:Events for Numero®
REFRESH-INTERVAL;VALUE=DURATION:PT1H
X-Robots-Tag:noindex
X-PUBLISHED-TTL:PT1H
BEGIN:VTIMEZONE
TZID:Australia/Perth
BEGIN:STANDARD
TZOFFSETFROM:+0800
TZOFFSETTO:+0800
TZNAME:AWST
DTSTART:20240101T000000
END:STANDARD
END:VTIMEZONE
BEGIN:VEVENT
DTSTART;VALUE=DATE:20250912
DTEND;VALUE=DATE:20250913
DTSTAMP:20260424T062210
CREATED:20250601T143306Z
LAST-MODIFIED:20250913T105923Z
UID:14277-1757635200-1757721599@numero.org
SUMMARY:AFG Primary Interschool Numero Challenge Esperance Heat
DESCRIPTION:The Esperance Heat of the 2025 AFG Primary Interschool Numero Challenge will be held on this day. \nThe primary challenge is open to teams of 4 primary school students from any schools in Western Australia.  There will be fourteen heats\, followed by a Grand Final. \nThis event is proudly sponsored by Australian Finance Group (AFG) and supported by Campion Education (WA) and The Mathematical Association of WA.
URL:https://numero.org/event/afg-primary-interschool-numero-challenge-esperance-heat/
LOCATION:Esperance Civic Centre\, Council Place\, Esperance\, Western Australia\, 6450\, Australia
ORGANIZER;CN="Numero":MAILTO:julie@ietpl.com.au
END:VEVENT
BEGIN:VEVENT
DTSTART;VALUE=DATE:20250909
DTEND;VALUE=DATE:20250910
DTSTAMP:20260424T062210
CREATED:20250601T142905Z
LAST-MODIFIED:20250913T105839Z
UID:14275-1757376000-1757462399@numero.org
SUMMARY:AFG Primary Interschool Numero Challenge Geraldton Heat 2
DESCRIPTION:The Geraldton Heat 2 of the 2025 AFG Primary Interschool Numero Challenge will be held on this day. \nThe primary challenge is open to teams of 4 primary school students from any schools in Western Australia.  There will be fourteen heats\, followed by a Grand Final. \nThis event is proudly sponsored by Australian Finance Group (AFG) and supported by Campion Education (WA) and The Mathematical Association of WA.
URL:https://numero.org/event/afg-primary-interschool-numero-challenge-geraldton-heat-2/
LOCATION:St Lawrence’s Primary School\, 350 Chapman Road\, Bluff Point\, Western Australia\, 6530\, Australia
ORGANIZER;CN="Numero":MAILTO:julie@ietpl.com.au
END:VEVENT
BEGIN:VEVENT
DTSTART;VALUE=DATE:20250908
DTEND;VALUE=DATE:20250909
DTSTAMP:20260424T062210
CREATED:20250601T061500Z
LAST-MODIFIED:20250913T105756Z
UID:14271-1757289600-1757375999@numero.org
SUMMARY:AFG Primary Interschool Numero Challenge Geraldton Heat 1
DESCRIPTION:The Geraldton Heat 1 of the 2025 AFG Primary Interschool Numero Challenge will be held on this day. \nThe primary challenge is open to teams of 4 primary school students from any schools in Western Australia.  There will be fourteen heats\, followed by a Grand Final. \nThis event is proudly sponsored by Australian Finance Group (AFG) and supported by Campion Education (WA) and The Mathematical Association of WA.
URL:https://numero.org/event/afg-primary-interschool-numero-challenge-geraldton-heat-1/
LOCATION:St Lawrence’s Primary School\, 350 Chapman Road\, Bluff Point\, Western Australia\, 6530\, Australia
ORGANIZER;CN="Numero":MAILTO:julie@ietpl.com.au
END:VEVENT
BEGIN:VEVENT
DTSTART;VALUE=DATE:20250813
DTEND;VALUE=DATE:20250814
DTSTAMP:20260424T062210
CREATED:20250601T054800Z
LAST-MODIFIED:20250913T110048Z
UID:14269-1755043200-1755129599@numero.org
SUMMARY:Frank Drysdale Secondary Interschool Numero Challenge Grand Final
DESCRIPTION:The Grand Final of the 2025 Frank Drysdale Secondary Interschool Numero Challenge will be held on this day. \nThe secondary challenge is open to teams of 4 year 7 – 10 students from any schools in Western Australia.  There will be three heats\, followed by a Grand Final. \nThis event is sponsored by Campion Education (WA) and supported by The Mathematical Association of WA.
URL:https://numero.org/event/frank-drysdale-secondary-interschool-numero-challenge-grand-final/
LOCATION:Aquinas College\, 58 Mount Henry Road\, Salter Point\, Western Australia\, 6152\, Australia
ORGANIZER;CN="Numero":MAILTO:julie@ietpl.com.au
END:VEVENT
BEGIN:VEVENT
DTSTART;TZID=Australia/Perth:20250810T100000
DTEND;TZID=Australia/Perth:20250810T130000
DTSTAMP:20260424T062210
CREATED:20250630T094233Z
LAST-MODIFIED:20250630T094245Z
UID:14314-1754820000-1754830800@numero.org
SUMMARY:MAWA Maths Expo 2025
DESCRIPTION:Join us for a day of learning and exploration at the Maths Expo! \nDesigned to support parents and students in mathematics learning at home\, this interactive event will showcase the latest and greatest resources for a fun and engaging approach to maths. \nDon’t miss out on seeing Numero in all its glory – both the classic physical card game and the new digital app! \nBring the family and dive into the world of mathematics together. \nDon’t miss out on this unique opportunity to support your student’s maths learning journey. See you at the Maths Expo!
URL:https://numero.org/event/mawa-maths-expo-2025/
LOCATION:Curtin University School of Education\, Curtin University\, Bentley\, Western Australia\, 6102\, Australia
ATTACH;FMTTYPE=image/png:https://numero.org/wp-content/uploads/2025/06/ExpoLogo-1024x380-1.png
ORGANIZER;CN="MAWA":MAILTO:office@mawainc.org.au
END:VEVENT
BEGIN:VEVENT
DTSTART;VALUE=DATE:20250806
DTEND;VALUE=DATE:20250807
DTSTAMP:20260424T062210
CREATED:20250601T054453Z
LAST-MODIFIED:20250913T110136Z
UID:14267-1754438400-1754524799@numero.org
SUMMARY:Frank Drysdale Secondary Interschool Numero Challenge North Heat
DESCRIPTION:The North Heat of the 2025 Frank Drysdale Secondary Interschool Numero Challenge will be held on this day. \nThe secondary challenge is open to teams of 4 year 7 – 10 students from any schools in Western Australia.  There will be three heats\, followed by a Grand Final. \nThis event is sponsored by Campion Education (WA) and supported by The Mathematical Association of WA.
URL:https://numero.org/event/frank-drysdale-secondary-interschool-numero-challenge-north-heat/
LOCATION:St Stephen’s School Duncraig Campus\, 100 Doveridge Drive\, Duncraig\, Western Australia\, 6023\, Australia
ORGANIZER;CN="Numero":MAILTO:julie@ietpl.com.au
END:VEVENT
BEGIN:VEVENT
DTSTART;VALUE=DATE:20250805
DTEND;VALUE=DATE:20250806
DTSTAMP:20260424T062210
CREATED:20250601T054257Z
LAST-MODIFIED:20250913T110259Z
UID:14265-1754352000-1754438399@numero.org
SUMMARY:Frank Drysdale Secondary Interschool Numero Challenge Central Heat
DESCRIPTION:The Central Heat of the 2025 Frank Drysdale Secondary Interschool Numero Challenge will be held on this day. \nThe secondary challenge is open to teams of 4 year 7 – 10 students from any schools in Western Australia.  There will be three heats\, followed by a Grand Final. \nThis event is sponsored by Campion Education (WA) and supported by The Mathematical Association of WA.
URL:https://numero.org/event/frank-drysdale-secondary-interschool-numero-challenge-central-heat/
LOCATION:Mazenod College\, 55 Gladys Road\, Lesmurdie\, Western Australia\, 6076\, Australia
ORGANIZER;CN="Numero":MAILTO:julie@ietpl.com.au
END:VEVENT
BEGIN:VEVENT
DTSTART;VALUE=DATE:20250804
DTEND;VALUE=DATE:20250805
DTSTAMP:20260424T062210
CREATED:20250601T054042Z
LAST-MODIFIED:20250913T110401Z
UID:14263-1754265600-1754351999@numero.org
SUMMARY:Frank Drysdale Secondary Interschool Numero Challenge South Heat
DESCRIPTION:The South Heat of the 2025 Frank Drysdale Secondary Interschool Numero Challenge will be held on this day. \nThe secondary challenge is open to teams of 4 year 7 – 10 students from any schools in Western Australia.  There will be three heats\, followed by a Grand Final. \nThis event is sponsored by Campion Education (WA) and supported by The Mathematical Association of WA.
URL:https://numero.org/event/frank-drysdale-secondary-interschool-numero-challenge-south-heat/
LOCATION:Melville Senior High School\, 18 Potts Street\, Melville\, Western Australia\, 6156\, Australia
ORGANIZER;CN="Numero":MAILTO:julie@ietpl.com.au
END:VEVENT
BEGIN:VEVENT
DTSTART;TZID=Australia/Perth:20250729T153000
DTEND;TZID=Australia/Perth:20250729T173000
DTSTAMP:20260424T062210
CREATED:20250714T230608Z
LAST-MODIFIED:20250718T073425Z
UID:14325-1753803000-1753810200@numero.org
SUMMARY:Numero Competition Preparation Workshop
DESCRIPTION:This workshop is designed for teachers who are new or recently new to Numero competitions (primary or secondary)\, or those teachers who simply want their students to do better\, as the focus will be on competing. \nWe will work through the four competition events with a multitude of tips and training techniques uniquely applicable to each of them. Be prepared to play the game and complete challenges under timed pressure\, just as the students are required to do. \nPre-requisite: Know how to play the game of Numero\, as that will be expected in order to work on competition training. (You may attend the earlier workshop to refresh your skills first!) \nNumero products will be available for sale on the day should you require any more stock for your school.
URL:https://numero.org/event/numero-competition-preparation-workshop-2/
LOCATION:Bentley Primary School\, 15 Hedley Street\, Bentley\, Western Australia\, 6102\, Australia
ORGANIZER;CN="Numero":MAILTO:julie@ietpl.com.au
END:VEVENT
BEGIN:VEVENT
DTSTART;TZID=Australia/Perth:20250717T100000
DTEND;TZID=Australia/Perth:20250717T130000
DTSTAMP:20260424T062210
CREATED:20250513T124435Z
LAST-MODIFIED:20250601T022111Z
UID:14202-1752746400-1752757200@numero.org
SUMMARY:Healthy Lifestyles & Tech Savvy Seniors Event
DESCRIPTION:  \nCambridge Senior Services (CSS) is once again partnering with the Seniors Recreation Council of WA and key stakeholders to present the Healthy Lifestyles & Tech Savvy Seniors Event. With an expected attendance of approximately 120 seniors\, this event provides a fantastic opportunity to connect with the community and highlight the benefits of Numero. \n 
URL:https://numero.org/event/healthy-lifestyles-tech-savvy-seniors-event/
LOCATION:The Boulevard Centre\, 99 The Boulevard\, Floreat\, West\, 6014\, Australia
END:VEVENT
BEGIN:VEVENT
DTSTART;TZID=Australia/Perth:20250715T123000
DTEND;TZID=Australia/Perth:20250715T143000
DTSTAMP:20260424T062210
CREATED:20250601T050532Z
LAST-MODIFIED:20250601T050532Z
UID:14253-1752582600-1752589800@numero.org
SUMMARY:Numero Competition Preparation Workshop
DESCRIPTION:This workshop is designed for teachers or EAs who are new or recently new to Numero competitions (primary or secondary)\, or those teachers who simply want their students to do better\, as the focus will be on competing.\n\nWe will work through the four competition events with a multitude of tips and training techniques uniquely applicable to each of them. Be prepared to play the game and complete challenges under timed pressure\, just as the students are required to do.\n\nPre-requisite: Know how to play the game of Numero\, as that will be expected in order to work on competition training. (You may attend the earlier workshop to refresh your skills first!)\n\nNumero products will be available for sale on the day should you require any more stock for your school.\n\n  \n 
URL:https://numero.org/event/numero-competition-preparation-workshop/
LOCATION:North Harrisdale Primary School\, 100 Reilly Road\, Harrisdale\, West\, 6112\, Australia
ORGANIZER;CN="Numero":MAILTO:julie@ietpl.com.au
END:VEVENT
BEGIN:VEVENT
DTSTART;TZID=Australia/Perth:20250715T110000
DTEND;TZID=Australia/Perth:20250715T120000
DTSTAMP:20260424T062210
CREATED:20250601T051708Z
LAST-MODIFIED:20250601T051708Z
UID:14257-1752577200-1752580800@numero.org
SUMMARY:Numero App Information Session
DESCRIPTION:Join the Numero expert and learn all about the newly released Numero App.\n\nHave a play with the app itself and see it demonstrated to its full potential.\n\nLearn all there is to know about the three versions of the Numero game\, all available through the app.\n\nPRE-REQUISITE\nHave the app downloaded on your device (no charge to download it). If your have already made a public purchase\, then you can use your own login details\, otherwise you will be loaned an account for this session.\n\nThis is a free workshop\, purely to help you get the best out of the Numero App. Register now!\n\nSuitable for users of the institutional version or the public release.\n\n 
URL:https://numero.org/event/numero-app-information-session/
LOCATION:North Harrisdale Primary School\, 100 Reilly Road\, Harrisdale\, West\, 6112\, Australia
ORGANIZER;CN="Numero":MAILTO:julie@ietpl.com.au
END:VEVENT
BEGIN:VEVENT
DTSTART;TZID=Australia/Perth:20250715T090000
DTEND;TZID=Australia/Perth:20250715T103000
DTSTAMP:20260424T062210
CREATED:20250601T023356Z
LAST-MODIFIED:20250601T023633Z
UID:14242-1752570000-1752575400@numero.org
SUMMARY:Numero Introductory Workshop
DESCRIPTION:Whether your school is currently using Numero or not\, they really should be!!\n\nPlaying Numero with your students will improve their basic number facts\, problem solving\, reasoning and fluency with mathematics.\nThis workshop will teach you how to play and teach Numero\, with lots of opportunity to practice and to ask questions. This session is perfect for those new to the game\, as well as those who either haven’t played in a while and need a refresher\, or those who aren’t sure if they are playing correctly. Use this session to hone your skills and make sure you’re getting the best out of such a valuable resource.\nNumero products will be available for sale on the day should you require any more stock for your school\, or additional product for home use. You might also get a sneak peak at the Numero App!!\n\nThis session is also perfect for home schoolers or any parents/grandparents that want to learn a game that can help their family members with their number skills.\n  \n 
URL:https://numero.org/event/numero-introductory-workshop/
LOCATION:North Harrisdale Primary School\, 100 Reilly Road\, Harrisdale\, West\, 6112\, Australia
ORGANIZER;CN="Numero":MAILTO:julie@ietpl.com.au
END:VEVENT
BEGIN:VEVENT
DTSTART;VALUE=DATE:20250627
DTEND;VALUE=DATE:20250628
DTSTAMP:20260424T062210
CREATED:20250420T062956Z
LAST-MODIFIED:20250420T062956Z
UID:14165-1750982400-1751068799@numero.org
SUMMARY:Love Maths Conference - Melbourne
DESCRIPTION:Numero\, the amazing mental maths resource for primary and secondary education\, is joining Michael Minas at the “Love Maths Conference” in Melbourne this year.  We at Numero are keen to share with our Victorian colleagues\, what we in Western Australia have known for years. That is how good Numero is and why it should be used in all classrooms. \nRegister for this conference and take the opportunity to speak with Julie while she is in Melbourne.  She can’t wait to meet you all.
URL:https://numero.org/event/love-maths-conference-melbourne/
LOCATION:Moonee Valley Racing Club\, Feehan Avenue\, Moonee Ponds\, Victoria\, 3039\, Australia
ATTACH;FMTTYPE=image/png:https://numero.org/wp-content/uploads/2025/04/love-maths-logo.png
ORGANIZER;CN="Love Maths":MAILTO:michael.lovemaths@gmail.com
END:VEVENT
BEGIN:VEVENT
DTSTART;TZID=Australia/Perth:20250621T083000
DTEND;TZID=Australia/Perth:20250621T153000
DTSTAMP:20260424T062210
CREATED:20250420T054348Z
LAST-MODIFIED:20250420T055711Z
UID:14154-1750494600-1750519800@numero.org
SUMMARY:MAWA Goldfields Conference 2025
DESCRIPTION:MAWA will host its first regional conference on Saturday 21st June at Boulder Primary School. \nMAWA is excited to bring quality professional learning to the Goldfields! This conference empowers regional educators with practical strategies\, evidence-based practices\, and innovative resources. \nSave on travel and costs to Perth while accessing high-impact mathematics education insights\, fostering collaboration\, and building teacher confidence to support sustainable whole-school improvement and student success. \nNumero is one of many presenters.  Julie will be taking the opportunity to present a workshop specifically targeted at early years education\, as well as a standard introductory Numero session for those either new to teaching Numero\, or keen to clarify or improve their skills.
URL:https://numero.org/event/mawa-goldfields-conference-2025/
LOCATION:Boulder Primary School\, 200 Lane Street\, Boulder\, Boulder\, 6432\, Australia
ATTACH;FMTTYPE=image/png:https://numero.org/wp-content/uploads/2025/04/Goldfields_LOGO.png
ORGANIZER;CN="MAWA":MAILTO:office@mawainc.org.au
END:VEVENT
BEGIN:VEVENT
DTSTART;TZID=Australia/Perth:20250620T160000
DTEND;TZID=Australia/Perth:20250620T170000
DTSTAMP:20260424T062210
CREATED:20250420T061137Z
LAST-MODIFIED:20250601T005454Z
UID:14162-1750435200-1750438800@numero.org
SUMMARY:Maths Meet - Federal Hotel Kalgoorlie
DESCRIPTION:While we are in town\, MAWA is also hosting a Maths Meet at the Federal Hotel from 4pm-5pm on Friday 20th June.  Be sure to pop in and enjoy your first drink on MAWA. Looking forward to seeing you there!
URL:https://numero.org/event/maths-meet-federal-hotel-kalgoorlie/
LOCATION:Federal Hotel\, 1 Hannan Street\, Kalgoorlie\, Western Australia\, 6430\, Australia
ATTACH;FMTTYPE=image/jpeg:https://numero.org/wp-content/uploads/2023/08/logo-mawa-horizontal.jpg
ORGANIZER;CN="MAWA":MAILTO:office@mawainc.org.au
END:VEVENT
BEGIN:VEVENT
DTSTART;VALUE=DATE:20250519
DTEND;VALUE=DATE:20250524
DTSTAMP:20260424T062210
CREATED:20250513T130603Z
LAST-MODIFIED:20250513T131017Z
UID:14212-1747612800-1748044799@numero.org
SUMMARY:Numero in the Goldfields
DESCRIPTION:This week sees Numero visiting a number of schools in Kalgoorlie-Boulder.  If you are interested in being involved with any workshops\, please get in contact with Julie directly.
URL:https://numero.org/event/numero-in-the-goldfields/
LOCATION:Goldfields\, Kalgoorlie\, Western Australia\, 6430\, Australia
ORGANIZER;CN="Numero":MAILTO:julie@ietpl.com.au
END:VEVENT
END:VCALENDAR