BEGIN:VCALENDAR
VERSION:2.0
PRODID:-//Numero® - ECPv6.15.20//NONSGML v1.0//EN
CALSCALE:GREGORIAN
METHOD:PUBLISH
X-ORIGINAL-URL:https://numero.org
X-WR-CALDESC:Events for Numero®
REFRESH-INTERVAL;VALUE=DURATION:PT1H
X-Robots-Tag:noindex
X-PUBLISHED-TTL:PT1H
BEGIN:VTIMEZONE
TZID:Australia/Perth
BEGIN:STANDARD
TZOFFSETFROM:+0800
TZOFFSETTO:+0800
TZNAME:AWST
DTSTART:20250101T000000
END:STANDARD
END:VTIMEZONE
BEGIN:VEVENT
DTSTART;VALUE=DATE:20260428
DTEND;VALUE=DATE:20260430
DTSTAMP:20260423T200326
CREATED:20260327T024609Z
LAST-MODIFIED:20260327T032346Z
UID:14590-1777334400-1777507199@numero.org
SUMMARY:NUMERO in Canberra
DESCRIPTION:NUMERO will be visiting Canberra during this period 28 – 29 April. \nNumero workshops will be held at two schools on those days. \nGet in touch if you are interested in attending these events.
URL:https://numero.org/event/numero-in-canberra/
LOCATION:Canberra\, Canberra\, ACT\, Australia
ATTACH;FMTTYPE=image/jpeg:https://numero.org/wp-content/uploads/2026/03/Canberra-1.jpg
ORGANIZER;CN="Numero":MAILTO:julie@ietpl.com.au
END:VEVENT
END:VCALENDAR